BEGIN:VCALENDAR
VERSION:2.0
PRODID:-//PYVOBJECT//NONSGML Version 1//EN
BEGIN:VEVENT
UID:21769:2455
DTSTART:20140924T000000
DTEND:20140924T000000
DESCRIPTION:Anmeldung im Gesch&auml\;ft.\nKursbeitrag: ab&nbsp\;&euro\;180
DTSTAMP:20260425T173111Z
SUMMARY:Trachtennähkurs
END:VEVENT
END:VCALENDAR
