BEGIN:VCALENDAR
VERSION:2.0
PRODID:-//PYVOBJECT//NONSGML Version 1//EN
BEGIN:VEVENT
UID:21769:2454
DTSTART:20140714T180000
DTEND:20141231T200000
DESCRIPTION:Jeden Montag von 18:00 - 20:00 !
DTSTAMP:20260425T134506Z
SUMMARY:Kostenlose Strickrunde
END:VEVENT
END:VCALENDAR
